BEGIN:VCALENDAR
VERSION:2.0
PRODID:-//wp-events-plugin.com//7.2.3.1//EN
TZID:America/Chicago
X-WR-TIMEZONE:America/Chicago
BEGIN:VEVENT
UID:236@markesanlibrary.org
DTSTART;TZID=America/Chicago:20260428T103000
DTEND;TZID=America/Chicago:20260428T163000
DTSTAMP:20260420T174419Z
URL:https://markesanlibrary.org/events/craft-sale-fundraiser/
SUMMARY:Craft Sale Fundraiser
DESCRIPTION:\nOn Tuesday\, April 28 from 10:30 am - 4:30 pm\, stop in for a
  craft sale! Find a variety of crafting supplies for your next project\, a
 nd help support the library at the same time. \n
ATTACH;FMTTYPE=image/jpeg:https://markesanlibrary.org/wp-content/uploads/2
 026/04/Craft-Sale-website-event-cover.jpg
CATEGORIES:General
END:VEVENT
BEGIN:VTIMEZONE
TZID:America/Chicago
X-LIC-LOCATION:America/Chicago
BEGIN:DAYLIGHT
DTSTART:20260308T030000
TZOFFSETFROM:-0600
TZOFFSETTO:-0500
TZNAME:CDT
END:DAYLIGHT
END:VTIMEZONE
END:VCALENDAR