BEGIN:VCALENDAR
VERSION:2.0
PRODID:-//wp-events-plugin.com//7.2.3.1//EN
TZID:America/Chicago
X-WR-TIMEZONE:America/Chicago
BEGIN:VEVENT
UID:132@markesanlibrary.org
DTSTART;TZID=America/Chicago:20250707T130000
DTEND;TZID=America/Chicago:20250707T143000
DTSTAMP:20250626T215200Z
URL:https://markesanlibrary.org/events/colored-pencils-with-samantha-art-d
 emonstration/
SUMMARY:Colored Pencils with Samantha - Art Demonstration
DESCRIPTION:\n\n\n\n\nOn Monday\, July 7 from 1:00 - 2:30 pm\, Samantha wil
 l be here for another art demonstration! Learn different art techniques us
 ing colored pencils.\n
ATTACH;FMTTYPE=image/jpeg:https://markesanlibrary.org/wp-content/uploads/2
 025/06/Colored-Pencil-Class-July-7.jpg
CATEGORIES:General
END:VEVENT
BEGIN:VTIMEZONE
TZID:America/Chicago
X-LIC-LOCATION:America/Chicago
BEGIN:DAYLIGHT
DTSTART:20250309T030000
TZOFFSETFROM:-0600
TZOFFSETTO:-0500
TZNAME:CDT
END:DAYLIGHT
END:VTIMEZONE
END:VCALENDAR